BEGIN:VCALENDAR
VERSION:2.0
METHOD:PUBLISH
BEGIN:VEVENT
DTSTAMP:20260422T135233Z
DTSTART:20260502T140000Z
DTEND:20260502T170000Z
SUMMARY:Family Art
LOCATION:36 Mississaga Street West, Orillia, ON, L3V 3A6
END:VEVENT
END:VCALENDAR
