BEGIN:VCALENDAR
VERSION:2.0
METHOD:PUBLISH
BEGIN:VEVENT
DTSTAMP:20260421T111127Z
DTSTART:20260430T220000Z
DTEND:20260430T233000Z
SUMMARY:The Artful Way to Wellness: April Session
LOCATION:36 Mississaga St W, Orillia, ON L3V 3A6
END:VEVENT
END:VCALENDAR
