BEGIN:VCALENDAR
VERSION:2.0
METHOD:PUBLISH
BEGIN:VEVENT
DTSTAMP:20260420T130534Z
DTSTART:20260424T140000Z
DTEND:20260424T170000Z
SUMMARY:PA Day  Makerspace Drop-In: Festival Art
LOCATION:36 Mississaga Street West, Orillia, ON, L3V 3A6
END:VEVENT
END:VCALENDAR
