BEGIN:VCALENDAR
VERSION:2.0
METHOD:PUBLISH
BEGIN:VEVENT
DTSTAMP:20260424T135757Z
DTSTART:20260421T173000Z
DTEND:20260421T190000Z
SUMMARY:Baby Signs
LOCATION:36 Mississaga St West, Orillia, ON, L3V 3A6
END:VEVENT
END:VCALENDAR
