BEGIN:VCALENDAR
VERSION:2.0
METHOD:PUBLISH
BEGIN:VEVENT
DTSTAMP:20260424T145632Z
DTSTART:20260407T173000Z
DTEND:20260407T190000Z
SUMMARY:Baby Signs
LOCATION:36 Mississaga St West, Orillia, ON, L3V 3A6
END:VEVENT
END:VCALENDAR
