BEGIN:VCALENDAR
VERSION:2.0
METHOD:PUBLISH
BEGIN:VEVENT
DTSTAMP:20260420T061734Z
DTSTART:20241011T143000Z
DTEND:20241011T153000Z
SUMMARY:Storytime In the Park
LOCATION:75 Coldwater Road West, Orillia, ON, L3V 3L3&nbsp;
END:VEVENT
END:VCALENDAR
