BEGIN:VCALENDAR
VERSION:2.0
METHOD:PUBLISH
BEGIN:VEVENT
DTSTAMP:20260421T015040Z
DTSTART:20240610T140000Z
DTEND:20240611T000000Z
SUMMARY:Adult Take and Make: Rainbow Pride
LOCATION:36 Mississaga Street West, Orillia, ON, L3V 3A6
END:VEVENT
END:VCALENDAR
