BEGIN:VCALENDAR
VERSION:2.0
METHOD:PUBLISH
BEGIN:VEVENT
DTSTAMP:20260420T215019Z
DTSTART:20230307T153000Z
DTEND:20230307T163000Z
SUMMARY:Chair Yoga
LOCATION:36 Mississaga St. West, Orillia, ON, L3V 3A6
END:VEVENT
END:VCALENDAR
