BEGIN:VCALENDAR
VERSION:2.0
METHOD:PUBLISH
BEGIN:VEVENT
DTSTAMP:20260422T175429Z
DTSTART:20220810T180000Z
DTEND:20220810T193000Z
SUMMARY:Tween Social: Myths and Legends Game Day
LOCATION:36 Mississaga St W
END:VEVENT
END:VCALENDAR
