BEGIN:VCALENDAR
VERSION:2.0
METHOD:PUBLISH
BEGIN:VEVENT
DTSTAMP:20260422T102225Z
DTSTART:20211029T143000Z
DTEND:20211029T150000Z
SUMMARY:Storytime in the Park
LOCATION:36 Mississaga St W
END:VEVENT
END:VCALENDAR
