BEGIN:VCALENDAR
VERSION:2.0
METHOD:PUBLISH
BEGIN:VEVENT
DTSTAMP:20260423T174045Z
DTSTART:20211019T140000Z
DTEND:20211019T220000Z
SUMMARY:Adult Take and Make: Remembrance Day Poppy Mobile
LOCATION:36 Mississaga St. W.
END:VEVENT
END:VCALENDAR
