BEGIN:VCALENDAR
VERSION:2.0
METHOD:PUBLISH
BEGIN:VEVENT
DTSTAMP:20260426T031037Z
DTSTART:20190826T190000Z
DTEND:20190826T230000Z
SUMMARY:Family Escape Room: Candy Land
LOCATION:36 Mississaga Street West
END:VEVENT
END:VCALENDAR
